BEGIN:VCALENDAR
VERSION:2.0
PRODID:www.gruene-dormagen.de
METHOD:PUBLISH
BEGIN:VTIMEZONE
TZID:Europe/Berlin
X-LIC-LOCATION:Europe/Berlin
BEGIN:DAYLIGHT
TZOFFSETFROM:+0100
TZOFFSETTO:+0200
TZNAME:CEST
DTSTART:19700329T020000
RRULE:FREQ=YEARLY;INTERVAL=1;BYDAY=-1SU;BYMONTH=3
END:DAYLIGHT
BEGIN:STANDARD
TZOFFSETFROM:+0200
TZOFFSETTO:+0100
TZNAME:CET
DTSTART:19701025T030000
RRULE:FREQ=YEARLY;INTERVAL=1;BYDAY=-1SU;BYMONTH=10
END:STANDARD
END:VTIMEZONE
BEGIN:VEVENT
UID:8c5a301739fd90ddceaaca4edd074cca@www.gruene-dormagen.de
URL;VALUE=URI:https://www.gruene-dormagen.de/termine/gruenes-treffen-aufs
 tehen-gegen-rassismus/
LOCATION:BÜNDNIS 90/DIE GRÜNEN Dormagen, Kölner Str. 25, 41539 Dormage
 n, Deutschland
SUMMARY:Grünes Treffen: Aufstehen gegen Rassismus
DESCRIPTION;ALTREP="data:text/html,%3Cp%3E%3C%2Fp%3E":
CLASS:PUBLIC
DTSTART;TZID=Europe/Berlin:20260527T190000
DTEND;TZID=Europe/Berlin:20260527T210000
DTSTAMP:20260422T052324
END:VEVENT
END:VCALENDAR